BEGIN:VCALENDAR
VERSION:2.0
PRODID:-//eventon.com NONSGML v1.0//EN
CALSCALE:GREGORIAN
METHOD:PUBLISH
BEGIN:VEVENT
UID:69e5e8a2e402a
DTSTAMP:20260420T084938Z
DTSTART:20250703T090000Z
DTEND:20250703T094500Z
LOCATION:Malá scéna Divadla Karla Pippicha Čs. Partyzánů 6\,  53701 Chrudim
SUMMARY:Deset dvacet\,  brácha v břiše! / Studio DAMÚZA\,  Praha / 4+
DESCRIPTION:3. 7. / 9.00 a 11.00Malá scéna DKP45 minut / od 4 let Deset d
 vacet\,  brácha v břiše!Studio DAMÚZA\,  Praha Příběh zázračné c
 esty na svět\,  kterou prošly všechny děti\,  ale žádné z nich si na
  to nepamatuje. Režie: Markéta SýkorováDramaturgie: Adéla ŠotolováSc
 énografie: Petra LemonnierHudba: Marek BělohlávekProdukce: Damúza – N
 atálie Pelcová a[..]\nhttps://www.loutkarskachrudim.cz/program/deset-dvac
 et-bracha-v-brise-studio-damuza-praha-4-2/
URL:https://www.loutkarskachrudim.cz/program/deset-dvacet-bracha-v-brise-studio-damuza-praha-4-2/
END:VEVENT
END:VCALENDAR