BEGIN:VCALENDAR
VERSION:2.0
PRODID:-//eventon.com NONSGML v1.0//EN
CALSCALE:GREGORIAN
METHOD:PUBLISH
BEGIN:VEVENT
UID:69e5eb2a789cb
DTSTAMP:20260420T090026Z
DTSTART:20250628T130000Z
DTEND:20250628T131700Z
LOCATION:Malá scéna Divadla Karla Pippicha Čs. Partyzánů 6\,  53701 Chrudim
SUMMARY:Podejme si tlapku / Na paloučku\,  ZUŠ P. Ebena\,  Žamberk / 4+
DESCRIPTION:28. 6. / 13.00 (B)\,  15.00 (A)\,  17.00 (C)29. 6 / 9.00Malá s
 céna DKP17 minut / od 4 let Podejme si tlapkuNa paloučku\,  ZUŠ P. Ebena
 \,  Žamberk Autor: Olga StrnadováRežie: Olga StrnadováScénografie: 
 Olga StrnadováLoutky: Olga StrnadováDruh loutek: spodové\,  maňásciH
 udba: Karel ŠefrnaHrají: Vaneska Hečko\,  Elenka Freudlová\,  Verunka 
 Malínková\,  Zuzka Malínková O inscenaciAutorské divadélko Podejme si
  tlapku vznikalo[..]\nhttps://www.loutkarskachrudim.cz/program/podejme-si-t
 lapku-na-paloucku-zus-p-ebena-zamberk-4-2/
URL:https://www.loutkarskachrudim.cz/program/podejme-si-tlapku-na-paloucku-zus-p-ebena-zamberk-4-2/
END:VEVENT
END:VCALENDAR