BEGIN:VCALENDAR
VERSION:2.0
PRODID:-//eventon.com NONSGML v1.0//EN
CALSCALE:GREGORIAN
METHOD:PUBLISH
BEGIN:VEVENT
UID:69e60fd67ea9c
DTSTAMP:20260420T113654Z
DTSTART:20240704T080000Z
DTEND:20240704T084000Z
LOCATION:Divadelní scéna MED Široká 85. 53701 Chrudim
SUMMARY:Amundsen / Loutky v nemocnici\,  Praha (6+)
DESCRIPTION:4. 7. / čtvrtek v 10.00Scéna MED40 minut / od 6 let Koncept a
  režie: Matyáš Míka a kol.Scénografie: Anna Hubená a Josefína Holcov
 áHudebně-dramaturgická konzultace: Markéta LabusováHrají: David Bolec
 h a Kryštof Míka Kudy vede cesta k tvému pólu?Vzrušující závod o do
 bytí poslední neznámé končiny země. Stalo se vám někdy\,  že[..]\n
 https://www.loutkarskachrudim.cz/program/amundsen-loutky-v-nemocnici-praha-
 6/
URL:https://www.loutkarskachrudim.cz/program/amundsen-loutky-v-nemocnici-praha-6/
END:VEVENT
END:VCALENDAR