BEGIN:VCALENDAR
VERSION:2.0
PRODID:-//eventon.com NONSGML v1.0//EN
CALSCALE:GREGORIAN
METHOD:PUBLISH
BEGIN:VEVENT
UID:69eb36fe3b18b
DTSTAMP:20260424T092518Z
DTSTART:20230701T120000Z
DTEND:20230701T124000Z
LOCATION:Za Divadlem Karla Pippicha Park Republiky\,  537 01 Chrudim II
SUMMARY:Moetivi Karavan / Expedice k domovu / 4+
DESCRIPTION:1.7. / sobota od 11.00\,  14.00\,  17.00 a 19.002.7. / neděle 
 od 11.00\,  14.00\,  17.00 a 19.00maringotka za Divadlem Karla Pippicha40 m
 inut / od 4 let Autorky a performerky: Dominika Špalková a Bára Ungerov
 Autorská spolupráce na začátku cesty: Lucie DlabolováAutorská spolup
 ráce na konci cesty: Vendula TomšůDesign: Barbora UngerováScénografie:
  Vendula TomšůHudba:[..]\nhttps://www.loutkarskachrudim.cz/program/moetiv
 i-karavan-expedice-k-domovu-4-2/
URL:https://www.loutkarskachrudim.cz/program/moetivi-karavan-expedice-k-domovu-4-2/
END:VEVENT
END:VCALENDAR