BEGIN:VCALENDAR
VERSION:2.0
PRODID:-//eventon.com NONSGML v1.0//EN
CALSCALE:GREGORIAN
METHOD:PUBLISH
BEGIN:VEVENT
UID:69e5e9442bbba
DTSTAMP:20260420T085220Z
DTSTART:20230704T070000Z
DTEND:20230704T075000Z
LOCATION:Malá scéna Divadla Karla Pippicha Čs. Partyzánů 6\,  53701 Chrudim
SUMMARY:Trable šerifa Míši / Pod kloboukem ZUŠ Chlumec n. Cidlinou / 3+
DESCRIPTION:3. 7. / 16.00 (C)\,  18.00 (A)4. 7. / 9.00\,  14.00 (B)Malá sc
 éna Divadla Karla Pippicha25 minut / od 3 let Dramatizátor:&nbsp;souborAu
 tor a název literární předlohy:&nbsp;podle textu Josefa TřešničkyDra
 maturgická úprava:&nbsp;souborRežie:&nbsp;RomanaHlubučková a souborSc
 nografie:&nbsp;souborLoutky:&nbsp;souborDruh loutek:&nbsp;maňásciHudebn
  doprovod:&nbsp;Kateřina Wagnerová a souborOsoby a obsazení:&nbsp;Terez
 a Šlechtová\,  Kateřina Wagnerová\,  Nikita Havelková\,  Lucie Maškov
 á\,  Lucie Trojanová\,  Eliška Hedvičáková\, [..]\nhttps://www.loutka
 rskachrudim.cz/program/trable-serifa-misi-pod-kloboukem-zus-chlumec-n-cidli
 nou-3/
URL:https://www.loutkarskachrudim.cz/program/trable-serifa-misi-pod-kloboukem-zus-chlumec-n-cidlinou-3/
END:VEVENT
END:VCALENDAR