BEGIN:VCALENDAR
VERSION:2.0
PRODID:-//eventon.com NONSGML v1.0//EN
CALSCALE:GREGORIAN
METHOD:PUBLISH
BEGIN:VEVENT
UID:69e5e427e3c48
DTSTAMP:20260420T083031Z
DTSTART:20230701T160000Z
DTEND:20230701T165000Z
LOCATION:Malá scéna Divadla Karla Pippicha Čs. Partyzánů 6\,  53701 Chrudim
SUMMARY:Podíl dramatické výchovy na polidštění krále Šáhríjára / Rámus\,  Plzeň / 10+ / C
DESCRIPTION:1. 7. / 13.00 (B)\,  15.00 (A)\,  18.00 (C)2. 7. / 11.00Malá s
 céna Divadla Karla Pippicha50 minut / od 10 let Dramatizátor:&nbsp;Zdena 
 Vašíčková a souborAutor a název literární předlohy:&nbsp;volně na 
 motivy příběhu Tisíce a jedné nociRežie:&nbsp;souborScénografie:&nbs
 p;souborLoutky:&nbsp;souborDruh loutek:&nbsp;předmětnéKostýmy:&nbsp;Sec
 ond hand Móda za hubičku Monika ŠtolbováHudba:&nbsp;souborHrají:&nbsp;
 Klára\,  Martin\,  Tereza Lukášovi\,  Monika\,  Nela a Agátka[..]\nhttp
 s://www.loutkarskachrudim.cz/program/podil-dramaticke-vychovy-na-polidsteni
 -krale-sahrijara-ramus-plzen-10-c/
URL:https://www.loutkarskachrudim.cz/program/podil-dramaticke-vychovy-na-polidsteni-krale-sahrijara-ramus-plzen-10-c/
END:VEVENT
END:VCALENDAR