BEGIN:VCALENDAR
VERSION:2.0
PRODID:-//eventon.com NONSGML v1.0//EN
CALSCALE:GREGORIAN
METHOD:PUBLISH
BEGIN:VEVENT
UID:69ea1dccdeedf
DTSTAMP:20260423T132532Z
DTSTART:20220706T110000Z
DTEND:20220706T130000Z
LOCATION:Za Divadlem Karla Pippicha Park Republiky\,  537 01 Chrudim II
SUMMARY:Jednoduchá marioneta - dílna pro veřejnost
DESCRIPTION:Dílna pro děti a jejich rodičeMožnost vyrobit si z&nbsp;př
 edpřipravených dílů jednoduchou marionetu.Lektor:&nbsp;Petr Borovský\,
   herec a režisér Divadla Alfa Plzeň\nhttps://www.loutkarskachrudim.cz/p
 rogram/vyrob-si-svoji-loutku-dilna-pro-verejnost-copy/
URL:https://www.loutkarskachrudim.cz/program/vyrob-si-svoji-loutku-dilna-pro-verejnost-copy/
END:VEVENT
END:VCALENDAR