BEGIN:VCALENDAR
VERSION:2.0
PRODID:-//eventon.com NONSGML v1.0//EN
CALSCALE:GREGORIAN
METHOD:PUBLISH
BEGIN:VEVENT
UID:69e7a25939e09
DTSTAMP:20260421T161417Z
DTSTART:20220701T120000Z
DTEND:20220701T123000Z
LOCATION:Klubovna Divadla Karla Pippicha ÄŒs. partyzÃ¡nÅ¯ 6\,  537 01 Chrudim
SUMMARY:Karkulka aneb Jak se do lesa\,  tak se z lesa tÄ›Å¾ko / R405\,  Praha / 8+
DESCRIPTION:VizuÃ¡lnÄ›-zvukovÃ¡ inscenace o cestÄ› Karkulky skrz les. Hlavn
 Ã­ roli hraje les\,  jeho obyvatelÃ©\,  atmosfÃ©ra a zvuky. PÅ™Ã­bÄ›h se ta
 k velmi odklÃ¡nÃ­ od pÅ¯vodnÃ­ pÅ™edlohy a dÅ¯raz je kladen spÃ­Å¡e na suge
 stivnÄ› atmosfÃ©rickou strÃ¡nku a pÅ™edstavivost divÃ¡ka. ReÅ¾ie: kolektivS
 cÃ©nografie: VavÅ™inec NÄ›mec\,  Martin TÅ¯maHrajÃ­: Alena NovotnÃ¡\,  Å tÄ
 ›pÃ¡nka TodorovÃ¡\,  Martin TÅ¯ma\,  VavÅ™inec NÄ›mec[..]\nhttps://www.lout
 karskachrudim.cz/program/karkulka-aneb-jak-se-do-lesa-tak-se-z-lesa-tezko-r
 405-praha-8-2/
URL:https://www.loutkarskachrudim.cz/program/karkulka-aneb-jak-se-do-lesa-tak-se-z-lesa-tezko-r405-praha-8-2/
END:VEVENT
END:VCALENDAR