BEGIN:VCALENDAR
VERSION:2.0
PRODID:-//eventon.com NONSGML v1.0//EN
CALSCALE:GREGORIAN
METHOD:PUBLISH
BEGIN:VEVENT
UID:69e5e93ae5964
DTSTAMP:20260420T085210Z
DTSTART:20220705T080000Z
DTEND:20220705T084500Z
LOCATION:Divadelní scéna MED Široká 85. 53701 Chrudim
SUMMARY:Četnická pohádka / Loutková scéna Radost Strakonice\,  z. s. / 5+
DESCRIPTION:Autor:&nbsp;Jakub JílekAutor předlohy:&nbsp;Karel Čapek: Vel
 ká policejní pohádkaDramaturgická úprava:&nbsp;Jakub JílekRežie:&nbs
 p;Jakub JílekScénografie:&nbsp;Václav Jiřík a kolektivLoutky:&nbsp;Eva
  BoubínováDruh loutek:&nbsp;předmětnéHudba:&nbsp;Roman Bulín\,  Jakub
  JílekOsoby a obsazení:&nbsp;Nejstarší pan strážník – Jan Tříska
 \,  Bambas – Jan Pruner\,  Halaburd – Petr Boubín\,  Trutina – Marek
  Poštolka\,  Úřednice – Tereza Kavanová\,  Drak a jiné – Daniel Š
 imůnek\,  Princezna – Dagmar[..]\nhttps://www.loutkarskachrudim.cz/progr
 am/cetnicka-pohadka-loutkova-scena-radost-strakonice-z-s-5-3/
URL:https://www.loutkarskachrudim.cz/program/cetnicka-pohadka-loutkova-scena-radost-strakonice-z-s-5-3/
END:VEVENT
END:VCALENDAR