BEGIN:VCALENDAR
VERSION:2.0
PRODID:-//eventon.com NONSGML v1.0//EN
CALSCALE:GREGORIAN
METHOD:PUBLISH
BEGIN:VEVENT
UID:69e5ead1aba88
DTSTAMP:20260420T085857Z
DTSTART:20210702T080000Z
DTEND:20210702T160000Z
LOCATION:Za Divadlem Karla Pippicha Park Republiky\,  537 01 Chrudim II
SUMMARY:Dřevěná dílna Báry Hubené
DESCRIPTION:od 2. do 4. července od 10.00 do 18.00 hodin / za Divadlem Kar
 la PippichaLektorka: Bára Hubená – loutkářka\,  hračkářka\,  scén
 ická a kostýmní výtvarnice\nhttps://www.loutkarskachrudim.cz/program/dr
 evena-dilna-bary-hubene/
URL:https://www.loutkarskachrudim.cz/program/drevena-dilna-bary-hubene/
END:VEVENT
END:VCALENDAR