BEGIN:VCALENDAR
VERSION:2.0
PRODID:-//eventon.com NONSGML v1.0//EN
CALSCALE:GREGORIAN
METHOD:PUBLISH
BEGIN:VEVENT
UID:69e73ddec94be
DTSTAMP:20260421T090534Z
DTSTART:20210706T140000Z
DTEND:20210706T145000Z
LOCATION:Šapitó za Divadlem Karla Pippicha Park Republiky\,  537 01 Chrudim II
SUMMARY:Nejmenší / Martin Hak / 8+
DESCRIPTION:16.00Šapitó za DKP50 minut8+ Příběh o velikém smutku a do
 brých radách\,  kterých je vždycky všude plno. Příběh o nadšení a
  cestě plné snahy. Příběh o bytosti\,  která žije nedaleko\,  ale n
 vštěvy se dočká zřídka. A taky o veliké touze žít a „být souč
 ástí“. (Speciálně pro 70. LCH v experimentální úpravě[..]\nhttps:
 //www.loutkarskachrudim.cz/program/nejmensi-martin-hak-8/
URL:https://www.loutkarskachrudim.cz/program/nejmensi-martin-hak-8/
END:VEVENT
END:VCALENDAR