BEGIN:VCALENDAR
VERSION:2.0
PRODID:-//eventon.com NONSGML v1.0//EN
CALSCALE:GREGORIAN
METHOD:PUBLISH
BEGIN:VEVENT
UID:69e89c4740902
DTSTAMP:20260422T100039Z
DTSTART:20210705T160000Z
DTEND:20210705T163000Z
LOCATION:Spolkový dům Spolkový dům\,  Palackého tř.\,  Chrudim
SUMMARY:Čtyři dobří / LS Vozichet – Ruda Hancvencl\,  Jablonec nad Nisou / 6+
DESCRIPTION:5. 7. 14.00 (B)\,  16.00 (C)\,  18.00 (A)6. 7. 9.00Spolkový d
 m30 minut6+ Čtyři novopečení superhrdinové se ve veselém komiksovém
  příběhu pouští do boje proti silám zla. O souboru:Vozichet v Jablonc
 i nad Nisou má datum vzniku 1980. Zatímco v devadesátých letech 20. sto
 letí se soubor přetransformoval na sdružení\,  počátkem 21. století[
 ..]\nhttps://www.loutkarskachrudim.cz/program/ctyri-dobri-ls-vozichet-ruda-
 hancvencl-jablonec-nad-nisou-6-3/
URL:https://www.loutkarskachrudim.cz/program/ctyri-dobri-ls-vozichet-ruda-hancvencl-jablonec-nad-nisou-6-3/
END:VEVENT
END:VCALENDAR