BEGIN:VCALENDAR
VERSION:2.0
PRODID:-//eventon.com NONSGML v1.0//EN
CALSCALE:GREGORIAN
METHOD:PUBLISH
BEGIN:VEVENT
UID:69e6ac3cb2ad7
DTSTAMP:20260420T224412Z
DTSTART:20210704T160000Z
DTEND:20210704T161500Z
LOCATION:Malá scéna Divadla Karla Pippicha Čs. Partyzánů 6\,  53701 Chrudim
SUMMARY:Kramářská píseň: O starých dívkách / Vozichet – J. Polanská a A. Štěpánová\,  Jablonec nad Nisou / 9+
DESCRIPTION:4. 7. / Neděle v 11.00\,  14.00 (C)\,  16.00 (A)\,  18.00 (B) 
 Malá scéna Divadla Karla Pippicha15 minut / od 9 let Autor a název liter
 ární předlohy: Robert Smetana a Bedřich Václavek: České písně kram
 ářské. Vydala roku 1949 Svoboda v Praze.Režie: Jiřina PolanskáScénog
 rafie: kolektivLoutky: Jiřina PolanskáDruh loutek: maňásek\,  předmět
 yKostýmy: Alena[..]\nhttps://www.loutkarskachrudim.cz/program/kramarska-pi
 sen-o-starych-divkach-vozichet-j-polanska-a-a-stepanova-jablonec-nad-nisou-
 9-4/
URL:https://www.loutkarskachrudim.cz/program/kramarska-pisen-o-starych-divkach-vozichet-j-polanska-a-a-stepanova-jablonec-nad-nisou-9-4/
END:VEVENT
END:VCALENDAR