BEGIN:VCALENDAR
VERSION:2.0
PRODID:-//eventon.com NONSGML v1.0//EN
CALSCALE:GREGORIAN
METHOD:PUBLISH
BEGIN:VEVENT
UID:69e526c99fb45
DTSTAMP:20260419T190233Z
DTSTART:20210702T160000Z
DTEND:20210702T162500Z
LOCATION:Malá scéna Divadla Karla Pippicha Čs. Partyzánů 6\,  53701 Chrudim
SUMMARY:Haló\,  chci ven! / Hana Voříšková + Tom Mohr\,  Choceň / 12+
DESCRIPTION:7. / Pátek 11.00\,  14.00 (C)\,  16.00 (A)\,  18.00 (B) Malá 
 scéna Divadla Karla Pippicha25 minut / od 12 let Autor: Hana Voříšková
 Režie: autorská inscenaceLoutky: Hana VoříškováHudba: Tomáš MohrHra
 jí: Hana Voříšková a Tomáš Mohr InscenaceHudebně výtvarné podoben
 ství o svobodném srdci. Papírové divadlo v písku. SouborVýtvarnice\, 
  příležitostná loutkoherečka\,  provozovatelka divadelně-písničkov
 ch automatů[..]\nhttps://www.loutkarskachrudim.cz/program/halo-chci-ven-h
 ana-voriskova-tom-mohr-chocen-12-4/
URL:https://www.loutkarskachrudim.cz/program/halo-chci-ven-hana-voriskova-tom-mohr-chocen-12-4/
END:VEVENT
END:VCALENDAR